BEGIN:VCALENDAR
VERSION:2.0
PRODID:-//jEvents 2.0 for Joomla//EN
CALSCALE:GREGORIAN
METHOD:PUBLISH
BEGIN:VEVENT
UID:0d3bda9cacea70268c77a96e12025c8d
CATEGORIES:Heimatverein
CREATED:20240417T115308
SUMMARY:Herbsteinsatz
LOCATION:Borngasse
DESCRIPTION;ENCODING=QUOTED-PRINTABLE:
DTSTAMP:20260421T020142Z
DTSTART:20241116T080000Z
SEQUENCE:0
TRANSP:OPAQUE
END:VEVENT
END:VCALENDAR