BEGIN:VCALENDAR
VERSION:2.0
PRODID:-//jEvents 2.0 for Joomla//EN
CALSCALE:GREGORIAN
METHOD:PUBLISH
BEGIN:VEVENT
UID:755f60b4de621cc88d667c783723d79d
CATEGORIES:Kirche
CREATED:20240417T115320
SUMMARY:Volkstrauertag
DESCRIPTION;ENCODING=QUOTED-PRINTABLE:
DTSTAMP:20260421T040141Z
DTSTART;VALUE=DATE:20241117
DTEND;VALUE=DATE:20241118
SEQUENCE:0
TRANSP:OPAQUE
END:VEVENT
END:VCALENDAR