BEGIN:VCALENDAR
VERSION:2.0
PRODID:-//jEvents 2.0 for Joomla//EN
CALSCALE:GREGORIAN
METHOD:PUBLISH
BEGIN:VEVENT
UID:e55866b820a2eb7339280115b863292c
CATEGORIES:Kulturverein
CREATED:20240624T131033
SUMMARY:Weinverkostung
LOCATION:Dorfgemeinschaftshaus Oberdünzebach
DESCRIPTION;ENCODING=QUOTED-PRINTABLE:
X-EXTRAINFO:Sie müssen ein Eintrittsticket erwerben, um an dieser Veranstaltung teilzun
 ehmen.
DTSTAMP:20260420T204701Z
DTSTART:20241123T170000Z
SEQUENCE:0
TRANSP:OPAQUE
END:VEVENT
END:VCALENDAR