BEGIN:VCALENDAR
VERSION:2.0
PRODID:-//jEvents 2.0 for Joomla//EN
CALSCALE:GREGORIAN
METHOD:PUBLISH
BEGIN:VEVENT
UID:d1080a34006fc10ceed91bf9a612ac2a
CATEGORIES:Schützenverein
CREATED:20250104T112005
SUMMARY:Waldmännchen
DESCRIPTION;ENCODING=QUOTED-PRINTABLE:
DTSTAMP:20260419T232255Z
DTSTART;VALUE=DATE:20250102
DTEND;VALUE=DATE:20250103
SEQUENCE:0
TRANSP:OPAQUE
END:VEVENT
END:VCALENDAR