BEGIN:VCALENDAR
VERSION:2.0
PRODID:-//jEvents 2.0 for Joomla//EN
CALSCALE:GREGORIAN
METHOD:PUBLISH
BEGIN:VEVENT
UID:59923eea8625602b3880eda9456adf81
CATEGORIES:TSV
CREATED:20250104T112112
SUMMARY:Waldmännchen Alte Herren
DESCRIPTION;ENCODING=QUOTED-PRINTABLE:
DTSTAMP:20260419T232255Z
DTSTART;VALUE=DATE:20250118
DTEND;VALUE=DATE:20250119
SEQUENCE:0
TRANSP:OPAQUE
END:VEVENT
END:VCALENDAR