BEGIN:VCALENDAR
VERSION:2.0
PRODID:-//jEvents 2.0 for Joomla//EN
CALSCALE:GREGORIAN
METHOD:PUBLISH
BEGIN:VEVENT
UID:afc08d961eddfc6cab8dc8c19907751d
CATEGORIES:TSV
CREATED:20250104T112145
SUMMARY:JHV: TSV
LOCATION:DGH
DESCRIPTION;ENCODING=QUOTED-PRINTABLE:
DTSTAMP:20260419T212253Z
DTSTART:20250201T190000Z
SEQUENCE:0
TRANSP:OPAQUE
END:VEVENT
END:VCALENDAR