BEGIN:VCALENDAR
VERSION:2.0
PRODID:-//jEvents 2.0 for Joomla//EN
CALSCALE:GREGORIAN
METHOD:PUBLISH
BEGIN:VEVENT
UID:8dc9054dfb6a21540b1d28a82736e007
CATEGORIES:Heimatverein
CREATED:20250104T112215
SUMMARY:JHV: Heimatverein
LOCATION:DGH
DESCRIPTION;ENCODING=QUOTED-PRINTABLE:
DTSTAMP:20260419T212253Z
DTSTART:20250215T190000Z
SEQUENCE:0
TRANSP:OPAQUE
END:VEVENT
END:VCALENDAR