BEGIN:VCALENDAR
VERSION:2.0
PRODID:-//jEvents 2.0 for Joomla//EN
CALSCALE:GREGORIAN
METHOD:PUBLISH
BEGIN:VEVENT
UID:321c2421438a91304b67dff224fb5069
CATEGORIES:Kirche
CREATED:20250104T112250
SUMMARY:Weltgebetstag
LOCATION:Johanneshaus (Ndb)
DESCRIPTION;ENCODING=QUOTED-PRINTABLE:
DTSTAMP:20260419T232552Z
DTSTART;VALUE=DATE:20250307
DTEND;VALUE=DATE:20250308
SEQUENCE:0
TRANSP:OPAQUE
END:VEVENT
END:VCALENDAR