BEGIN:VCALENDAR
VERSION:2.0
PRODID:-//jEvents 2.0 for Joomla//EN
CALSCALE:GREGORIAN
METHOD:PUBLISH
BEGIN:VEVENT
UID:417ddd78e51c0194cd08a15b567d0507
CATEGORIES:Kulturverein
CREATED:20250104T112315
SUMMARY:JHV: Kulturverein
LOCATION:DGH
DESCRIPTION;ENCODING=QUOTED-PRINTABLE:
DTSTAMP:20260419T232254Z
DTSTART;VALUE=DATE:20250308
DTEND;VALUE=DATE:20250309
SEQUENCE:0
TRANSP:OPAQUE
END:VEVENT
END:VCALENDAR