BEGIN:VCALENDAR
VERSION:2.0
PRODID:-//jEvents 2.0 for Joomla//EN
CALSCALE:GREGORIAN
METHOD:PUBLISH
BEGIN:VEVENT
UID:7706a9cab5dd8983c7c958ff1facf447
CATEGORIES:Heimatverein
CREATED:20250104T112450
SUMMARY:Osterschmücken
LOCATION:Treffen bei Degenhardt
DESCRIPTION;ENCODING=QUOTED-PRINTABLE:
DTSTAMP:20260419T212254Z
DTSTART:20250405T120000Z
SEQUENCE:0
TRANSP:OPAQUE
END:VEVENT
END:VCALENDAR