BEGIN:VCALENDAR
VERSION:2.0
PRODID:-//jEvents 2.0 for Joomla//EN
CALSCALE:GREGORIAN
METHOD:PUBLISH
BEGIN:VEVENT
UID:14f68c693ed81ef55cde2fe184902f72
CATEGORIES:Schützenverein
CREATED:20250104T112633
SUMMARY:Maiwanderung
DESCRIPTION;ENCODING=QUOTED-PRINTABLE:
DTSTAMP:20260420T022916Z
DTSTART:20250501T080000Z
SEQUENCE:0
TRANSP:OPAQUE
END:VEVENT
END:VCALENDAR