BEGIN:VCALENDAR
VERSION:2.0
PRODID:-//jEvents 2.0 for Joomla//EN
CALSCALE:GREGORIAN
METHOD:PUBLISH
BEGIN:VEVENT
UID:f1d2d9d7686a5800c1fd5e8cdea6620c
CATEGORIES:Kulturverein
CREATED:20250104T112827
SUMMARY:Tanz im Mai
LOCATION:DGH
DESCRIPTION;ENCODING=QUOTED-PRINTABLE:
X-EXTRAINFO:Tickets unter https://pretix.eu/kvodb/
DTSTAMP:20260420T054837Z
DTSTART:20250509T180000Z
SEQUENCE:0
TRANSP:OPAQUE
END:VEVENT
END:VCALENDAR