BEGIN:VCALENDAR
VERSION:2.0
PRODID:-//jEvents 2.0 for Joomla//EN
CALSCALE:GREGORIAN
METHOD:PUBLISH
BEGIN:VEVENT
UID:1c4db78828c5db9e15ca64c459ecd4e5
CATEGORIES:TSV
CREATED:20250104T113059
SUMMARY:Himmelfahrtswanderung
DESCRIPTION;ENCODING=QUOTED-PRINTABLE:
DTSTAMP:20260420T131408Z
DTSTART;VALUE=DATE:20250529
DTEND;VALUE=DATE:20250530
SEQUENCE:0
TRANSP:OPAQUE
END:VEVENT
END:VCALENDAR