BEGIN:VCALENDAR
VERSION:2.0
PRODID:-//jEvents 2.0 for Joomla//EN
CALSCALE:GREGORIAN
METHOD:PUBLISH
BEGIN:VEVENT
UID:429369edd86724c2c70780a53e8b1433
CATEGORIES:Schützenverein
CREATED:20250104T114214
SUMMARY:Königsschuss & Vogelschießen
LOCATION:Schützenheim
DESCRIPTION;ENCODING=QUOTED-PRINTABLE:
DTSTAMP:20260420T131124Z
DTSTART;VALUE=DATE:20251129
DTEND;VALUE=DATE:20251130
SEQUENCE:0
TRANSP:OPAQUE
END:VEVENT
END:VCALENDAR