BEGIN:VCALENDAR
VERSION:2.0
PRODID:-//jEvents 2.0 for Joomla//EN
CALSCALE:GREGORIAN
METHOD:PUBLISH
BEGIN:VEVENT
UID:b6822f78a4f14072c91b326b12c60b3c
CATEGORIES:Feuerwehr
CREATED:20250104T114449
SUMMARY:JHV: Feuerwehr
LOCATION:DGH
DESCRIPTION;ENCODING=QUOTED-PRINTABLE:
DTSTAMP:20260419T200229Z
DTSTART:20260110T190000Z
SEQUENCE:0
TRANSP:OPAQUE
END:VEVENT
END:VCALENDAR