BEGIN:VCALENDAR
VERSION:2.0
PRODID:-//jEvents 2.0 for Joomla//EN
CALSCALE:GREGORIAN
METHOD:PUBLISH
BEGIN:VEVENT
UID:4cbe2daf8de037f1637a9e317bd6c3db
CATEGORIES:TSV
CREATED:20250104T114527
SUMMARY:JHV: TSV
LOCATION:DGH
DESCRIPTION;ENCODING=QUOTED-PRINTABLE:
DTSTAMP:20260419T201644Z
DTSTART:20260207T190000Z
SEQUENCE:0
TRANSP:OPAQUE
END:VEVENT
END:VCALENDAR