BEGIN:VCALENDAR
VERSION:2.0
PRODID:-//jEvents 2.0 for Joomla//EN
CALSCALE:GREGORIAN
METHOD:PUBLISH
BEGIN:VEVENT
UID:ede7aee2004da1ade78f4d6cb23d0575
CATEGORIES:Ortsbeirat
CREATED:20251216T070144
SUMMARY:Kaffeenachmittag
LOCATION:DGH
DESCRIPTION;ENCODING=QUOTED-PRINTABLE:<p>Anmeldung bei Marlies George oder Matthias Herzog</p>
DTSTAMP:20260419T201644Z
DTSTART:20260213T140000Z
SEQUENCE:0
TRANSP:OPAQUE
END:VEVENT
END:VCALENDAR