BEGIN:VCALENDAR
VERSION:2.0
PRODID:-//jEvents 2.0 for Joomla//EN
CALSCALE:GREGORIAN
METHOD:PUBLISH
BEGIN:VEVENT
UID:31df450b51517b063c504157f3597c4d
CATEGORIES:Kirche
CREATED:20251216T070222
SUMMARY:Weltgebetstag
LOCATION:Johanneshaus Niederdünzebach
DESCRIPTION;ENCODING=QUOTED-PRINTABLE:
DTSTAMP:20260419T214519Z
DTSTART;VALUE=DATE:20260306
DTEND;VALUE=DATE:20260307
SEQUENCE:0
TRANSP:OPAQUE
END:VEVENT
END:VCALENDAR