BEGIN:VCALENDAR
VERSION:2.0
PRODID:-//jEvents 2.0 for Joomla//EN
CALSCALE:GREGORIAN
METHOD:PUBLISH
BEGIN:VEVENT
UID:0c3c73abe6be713f40392a78ab2a1bf4
CATEGORIES:Ortsbeirat
CREATED:20251216T070323
SUMMARY:Kommunalwahl
LOCATION:DGH
DESCRIPTION;ENCODING=QUOTED-PRINTABLE:
DTSTAMP:20260419T215139Z
DTSTART;VALUE=DATE:20260315
DTEND;VALUE=DATE:20260316
SEQUENCE:0
TRANSP:OPAQUE
END:VEVENT
END:VCALENDAR