BEGIN:VCALENDAR
VERSION:2.0
PRODID:-//jEvents 2.0 for Joomla//EN
CALSCALE:GREGORIAN
METHOD:PUBLISH
BEGIN:VEVENT
UID:265a409044628d5905db635c14660481
CATEGORIES:Sonstige
CREATED:20251216T071427
SUMMARY:Open Flair
LOCATION:Eschwege
DESCRIPTION;ENCODING=QUOTED-PRINTABLE:
DTSTAMP:20260420T041834Z
DTSTART;VALUE=DATE:20260805
DTEND;VALUE=DATE:20260810
SEQUENCE:0
TRANSP:OPAQUE
END:VEVENT
END:VCALENDAR