BEGIN:VCALENDAR
VERSION:2.0
PRODID:-//jEvents 2.0 for Joomla//EN
CALSCALE:GREGORIAN
METHOD:PUBLISH
BEGIN:VEVENT
UID:ce0499bfce0d16b67204521313f6a27a
CATEGORIES:Heimatverein
CREATED:20251216T072507
SUMMARY:Heckenschnitt
LOCATION:Borngasse
DESCRIPTION;ENCODING=QUOTED-PRINTABLE:
DTSTAMP:20260419T211652Z
DTSTART:20261031T080000Z
SEQUENCE:0
TRANSP:OPAQUE
END:VEVENT
END:VCALENDAR