BEGIN:VCALENDAR
VERSION:2.0
PRODID:-//jEvents 2.0 for Joomla//EN
CALSCALE:GREGORIAN
METHOD:PUBLISH
BEGIN:VEVENT
UID:2ce955239d9c282b8093c12d551e1548
CATEGORIES:Feuerwehr
CREATED:20251216T072536
SUMMARY:Schlachteessen A&E-Abteilung
LOCATION:Feuerwehr
DESCRIPTION;ENCODING=QUOTED-PRINTABLE:
DTSTAMP:20260419T232028Z
DTSTART;VALUE=DATE:20261107
DTEND;VALUE=DATE:20261108
SEQUENCE:0
TRANSP:OPAQUE
END:VEVENT
END:VCALENDAR