BEGIN:VCALENDAR
VERSION:2.0
PRODID:-//jEvents 2.0 for Joomla//EN
CALSCALE:GREGORIAN
METHOD:PUBLISH
BEGIN:VEVENT
UID:bd828a80a60357a270294b874eff6eba
CATEGORIES:Kirche
CREATED:20251216T072629
SUMMARY:Volkstrauertag
DESCRIPTION;ENCODING=QUOTED-PRINTABLE:
DTSTAMP:20260419T232552Z
DTSTART;VALUE=DATE:20261115
DTEND;VALUE=DATE:20261116
SEQUENCE:0
TRANSP:OPAQUE
END:VEVENT
END:VCALENDAR