BEGIN:VCALENDAR
VERSION:2.0
PRODID:-//jEvents 2.0 for Joomla//EN
CALSCALE:GREGORIAN
METHOD:PUBLISH
BEGIN:VEVENT
UID:c904c63acab54eb9ec2659aaed83bb69
CATEGORIES:Heimatverein
CREATED:20251216T072748
SUMMARY:Baumschmücken
LOCATION:Borngasse
DESCRIPTION;ENCODING=QUOTED-PRINTABLE:
DTSTAMP:20260419T212145Z
DTSTART:20261127T160000Z
SEQUENCE:0
TRANSP:OPAQUE
END:VEVENT
END:VCALENDAR