BEGIN:VCALENDAR
VERSION:2.0
PRODID:-//jEvents 2.0 for Joomla//EN
CALSCALE:GREGORIAN
METHOD:PUBLISH
BEGIN:VEVENT
UID:092647a3994317e2dd106714b9f689f5
CATEGORIES:Kirche
CREATED:20251216T072813
SUMMARY:Familiennachmittag
LOCATION:Johanneshaus Niederdünzebach
DESCRIPTION;ENCODING=QUOTED-PRINTABLE:
DTSTAMP:20260419T232614Z
DTSTART;VALUE=DATE:20261128
DTEND;VALUE=DATE:20261129
SEQUENCE:0
TRANSP:OPAQUE
END:VEVENT
END:VCALENDAR