BEGIN:VCALENDAR
VERSION:2.0
PRODID:-//jEvents 2.0 for Joomla//EN
CALSCALE:GREGORIAN
METHOD:PUBLISH
BEGIN:VEVENT
UID:6eb2711fb308426ee5ca21837ef271f1
CATEGORIES:Sonstige
CREATED:20251216T072921
SUMMARY:Weihnachtlicher Seniorennachmittag
LOCATION:DGH
DESCRIPTION;ENCODING=QUOTED-PRINTABLE:
DTSTAMP:20260420T174602Z
DTSTART;VALUE=DATE:20261206
DTEND;VALUE=DATE:20261207
SEQUENCE:0
TRANSP:OPAQUE
END:VEVENT
END:VCALENDAR