BEGIN:VCALENDAR
VERSION:2.0
PRODID:-//jEvents 2.0 for Joomla//EN
CALSCALE:GREGORIAN
METHOD:PUBLISH
BEGIN:VEVENT
UID:c66a5a87e105a5d2f99647f4589d2149
CATEGORIES:Feuerwehr
CREATED:20251216T072949
SUMMARY:FF: Weihnachtsfeier
DESCRIPTION;ENCODING=QUOTED-PRINTABLE:
DTSTAMP:20260419T231653Z
DTSTART;VALUE=DATE:20261212
DTEND;VALUE=DATE:20261213
SEQUENCE:0
TRANSP:OPAQUE
END:VEVENT
END:VCALENDAR