BEGIN:VCALENDAR
VERSION:2.0
PRODID:-//jEvents 2.0 for Joomla//EN
CALSCALE:GREGORIAN
METHOD:PUBLISH
BEGIN:VEVENT
UID:2ef583baf9fb8dd1a99141a7c8fdfc8b
CATEGORIES:Feuerwehr
CREATED:20251216T073036
SUMMARY:JHV: Feuerwehr
LOCATION:DGH
DESCRIPTION;ENCODING=QUOTED-PRINTABLE:
DTSTAMP:20260419T232256Z
DTSTART;VALUE=DATE:20270109
DTEND;VALUE=DATE:20270110
SEQUENCE:0
TRANSP:OPAQUE
END:VEVENT
END:VCALENDAR