BEGIN:VCALENDAR
VERSION:2.0
PRODID:-//jEvents 2.0 for Joomla//EN
CALSCALE:GREGORIAN
METHOD:PUBLISH
BEGIN:VEVENT
UID:56a330ebb4eb79be6fa4d2b0412da87f
CATEGORIES:TSV
CREATED:20251216T073102
SUMMARY:JHV: TSV
DESCRIPTION;ENCODING=QUOTED-PRINTABLE:
DTSTAMP:20260419T231653Z
DTSTART;VALUE=DATE:20270206
DTEND;VALUE=DATE:20270207
SEQUENCE:0
TRANSP:OPAQUE
END:VEVENT
END:VCALENDAR