BEGIN:VCALENDAR
VERSION:2.0
PRODID:-//jEvents 2.0 for Joomla//EN
CALSCALE:GREGORIAN
METHOD:PUBLISH
BEGIN:VEVENT
UID:6df429bc4a3438fec94516fe81f399ca
CATEGORIES:Feuerwehr
CREATED:20230122T204543
SUMMARY:FF: Jahreshauptversammlung
LOCATION:DGH
DESCRIPTION;ENCODING=QUOTED-PRINTABLE:
DTSTAMP:20260420T041922Z
DTSTART;VALUE=DATE:20240113
DTEND;VALUE=DATE:20240114
SEQUENCE:0
TRANSP:OPAQUE
END:VEVENT
END:VCALENDAR