BEGIN:VCALENDAR
VERSION:2.0
PRODID:-//jEvents 2.0 for Joomla//EN
CALSCALE:GREGORIAN
METHOD:PUBLISH
BEGIN:VEVENT
UID:d0426d638de43bd9ed96c2730259e286
CATEGORIES:TSV
CREATED:20240417T114628
SUMMARY:Sommerfest Frauen
DESCRIPTION;ENCODING=QUOTED-PRINTABLE:
DTSTAMP:20260420T224524Z
DTSTART;VALUE=DATE:20240615
DTEND;VALUE=DATE:20240616
SEQUENCE:0
TRANSP:OPAQUE
END:VEVENT
END:VCALENDAR