BEGIN:VCALENDAR
VERSION:2.0
PRODID:-//jEvents 2.0 for Joomla//EN
CALSCALE:GREGORIAN
METHOD:PUBLISH
BEGIN:VEVENT
UID:4113ffab8386238644add46596b48bee
CATEGORIES:Kinderfestausschuss
CREATED:20240417T114744
SUMMARY:Kinderfest
DESCRIPTION;ENCODING=QUOTED-PRINTABLE:
DTSTAMP:20260420T224525Z
DTSTART;VALUE=DATE:20240629
DTEND;VALUE=DATE:20240630
SEQUENCE:0
TRANSP:OPAQUE
END:VEVENT
END:VCALENDAR